BEGIN:VCALENDAR
VERSION:2.0
PRODID:-//ExhibitionMatches.com//NONSGML v1.0//EN
BEGIN:VEVENT
UID=413146A5-F51C-32C0-F86F3E9DAA735115
DTSTAMP=20260423T044225Z
DTSTART;VALUE=DATE:20260424
DTEND;VALUE=DATE:20260426
SUMMARY:KCWA Renegade Showdown
LOCATION:Frontier High School, 6401 Allen Rd., Bakersfield, CA, 93314
DESCRIPTION:View full event details: https://wrestlingtournaments.org/view.cfm?ID=106950
Contact: Alfredo Vigil kcwapairer@gmail.com
URL;VALUE=URI:https://wrestlingtournaments.org/view.cfm?ID=106950
END:VEVENT
END:VCALENDAR