BEGIN:VCALENDAR
VERSION:2.0
PRODID:-//ExhibitionMatches.com//NONSGML v1.0//EN
BEGIN:VEVENT
UID=1162F9E4-D0D4-301C-0D35648C336D4519
DTSTAMP=20260422T062540Z
DTSTART;VALUE=DATE:20260509
DTEND;VALUE=DATE:20260510
SUMMARY:MDWA Championships
LOCATION:Heritage High School, 101 American Ave, Brentwood, CA, 94513
DESCRIPTION:View full event details: https://wrestlingtournaments.org/view.cfm?ID=106986
Contact: Eric Krimm erickrimm@yahoo.com
URL;VALUE=URI:https://wrestlingtournaments.org/view.cfm?ID=106986
END:VEVENT
END:VCALENDAR