BEGIN:VCALENDAR
VERSION:2.0
PRODID:-//ExhibitionMatches.com//NONSGML v1.0//EN
BEGIN:VEVENT
UID=11736155-AABE-92AE-214FBD36559A6F78
DTSTAMP=20260422T062727Z
DTSTART;VALUE=DATE:20260509
DTEND;VALUE=DATE:20260510
SUMMARY:IEWA at Chaparral
LOCATION:Chaparral High School, 27215 Nicolas Road, Temecula, CA, 92591
DESCRIPTION:View full event details: https://wrestlingtournaments.org/view.cfm?ID=106990
Contact: Maxwell Irvin mirvin@tvusd.us
URL;VALUE=URI:https://wrestlingtournaments.org/view.cfm?ID=106990
END:VEVENT
END:VCALENDAR