BEGIN:VCALENDAR
VERSION:2.0
PRODID:-//ExhibitionMatches.com//NONSGML v1.0//EN
BEGIN:VEVENT
UID=11617355-F516-AB55-4AC537E8BA2AAEB2
DTSTAMP=20260422T062530Z
DTSTART;VALUE=DATE:20260509
DTEND;VALUE=DATE:20260510
SUMMARY:CVWA #6
LOCATION:CENTRAL EAST HIGH SCHOOL, 3535 N CORNELIA AVE, FRESNO, CA, 93722
DESCRIPTION:View full event details: https://wrestlingtournaments.org/view.cfm?ID=106994
Contact: Sean Carlson CVWAUSA@GMAIL.COM
URL;VALUE=URI:https://wrestlingtournaments.org/view.cfm?ID=106994
END:VEVENT
END:VCALENDAR