BEGIN:VCALENDAR
VERSION:2.0
PRODID:-//ExhibitionMatches.com//NONSGML v1.0//EN
BEGIN:VEVENT
UID=1171DD9E-947A-2DA3-A1188FA3B4AF9E82
DTSTAMP=20260422T062717Z
DTSTART;VALUE=DATE:20260516
DTEND;VALUE=DATE:20260517
SUMMARY:IEWA @ Great Oak
LOCATION:Great Oak High School, 32555 Deer Hollow Way, Temecula, CA, 92592
DESCRIPTION:View full event details: https://wrestlingtournaments.org/view.cfm?ID=106999
Contact: J.P. Santone jsantone@tvusd.us
URL;VALUE=URI:https://wrestlingtournaments.org/view.cfm?ID=106999
END:VEVENT
END:VCALENDAR