BEGIN:VCALENDAR
VERSION:2.0
PRODID:-//ExhibitionMatches.com//NONSGML v1.0//EN
BEGIN:VEVENT
UID=11752DCD-9A35-12B3-A851910977F72058
DTSTAMP=20260422T062739Z
DTSTART;VALUE=DATE:20260522
DTEND;VALUE=DATE:20260524
SUMMARY:KCWA Championships
LOCATION:North High School, 300 Galaxy Ave, Bakersfield, CA, 93308
DESCRIPTION:View full event details: https://wrestlingtournaments.org/view.cfm?ID=107012
Contact: Alfredo Vigil kcwapairer@gmail.com
URL;VALUE=URI:https://wrestlingtournaments.org/view.cfm?ID=107012
END:VEVENT
END:VCALENDAR