BEGIN:VCALENDAR
VERSION:2.0
PRODID:-//ExhibitionMatches.com//NONSGML v1.0//EN
BEGIN:VEVENT
UID=41858EB4-F43A-3715-FB123032C4E2B005
DTSTAMP=20260423T045137Z
DTSTART;VALUE=DATE:20260425
DTEND;VALUE=DATE:20260426
SUMMARY:Del Norte Wrestling
LOCATION:Del Norte High School, 1301 El Dorado St, Crescent City, CA, 95531
DESCRIPTION:View full event details: https://wrestlingtournaments.org/view.cfm?ID=107052
Contact: Clinton Schaad cschaad@dnco.org
URL;VALUE=URI:https://wrestlingtournaments.org/view.cfm?ID=107052
END:VEVENT
END:VCALENDAR