BEGIN:VCALENDAR
VERSION:2.0
PRODID:-//ExhibitionMatches.com//NONSGML v1.0//EN
BEGIN:VEVENT
UID=45556B04-A1A2-B020-8714C5D5F1212C39
DTSTAMP=20260423T063812Z
DTSTART;VALUE=DATE:20260426
DTEND;VALUE=DATE:20260427
SUMMARY:SAWA Beach Championships
LOCATION:Sierra College, 5100 Sierra College Blvd, Rocklin, CA, 95677
DESCRIPTION:View full event details: https://wrestlingtournaments.org/view.cfm?ID=107146
Contact: Don Martinez sawaprez@hotmail.com
URL;VALUE=URI:https://wrestlingtournaments.org/view.cfm?ID=107146
END:VEVENT
END:VCALENDAR