BEGIN:VCALENDAR
VERSION:2.0
PRODID:-//ExhibitionMatches.com//NONSGML v1.0//EN
BEGIN:VEVENT
UID=412FC31A-FE32-43F9-0EC2B317F1C694E1
DTSTAMP=20260423T044215Z
DTSTART;VALUE=DATE:20260426
DTEND;VALUE=DATE:20260427
SUMMARY:CVYWA`s Spring Republic
LOCATION:Mission Oak High School, 3442 East Bardsley Avenue, Tulare, CA, 93274
DESCRIPTION:View full event details: https://wrestlingtournaments.org/view.cfm?ID=107148

URL;VALUE=URI:https://wrestlingtournaments.org/view.cfm?ID=107148
END:VEVENT
END:VCALENDAR