BEGIN:VCALENDAR
VERSION:2.0
PRODID:-//ExhibitionMatches.com//NONSGML v1.0//EN
BEGIN:VEVENT
UID=412E4D91-FDF5-B565-D0F5EA4C1F595BAF
DTSTAMP=20260423T044205Z
DTSTART;VALUE=DATE:20260501
DTEND;VALUE=DATE:20260503
SUMMARY:KCWA Roadrunner Bash
LOCATION:California State University, Bakersfield, 9001 Stockdale Highway, Bakersfield, CA, 93311
DESCRIPTION:View full event details: https://wrestlingtournaments.org/view.cfm?ID=107157
Contact: Alfredo Vigil kcwapairer@gmail.com
URL;VALUE=URI:https://wrestlingtournaments.org/view.cfm?ID=107157
END:VEVENT
END:VCALENDAR