BEGIN:VCALENDAR
VERSION:2.0
PRODID:-//ExhibitionMatches.com//NONSGML v1.0//EN
BEGIN:VEVENT
UID=4158AAC9-B047-062D-5B0D14546CFD00B5
DTSTAMP=20260423T044643Z
DTSTART;VALUE=DATE:20260502
DTEND;VALUE=DATE:20260503
SUMMARY:MDWA Battle at the Creek
LOCATION:Northgate High School, 425 Castle Rock Rd, Walnut Creek, CA, 94598
DESCRIPTION:View full event details: https://wrestlingtournaments.org/view.cfm?ID=107164
Contact: Thomas Booth thomasbootyhrn@gmail.com
URL;VALUE=URI:https://wrestlingtournaments.org/view.cfm?ID=107164
END:VEVENT
END:VCALENDAR