BEGIN:VCALENDAR
VERSION:2.0
PRODID:-//ExhibitionMatches.com//NONSGML v1.0//EN
BEGIN:VEVENT
UID=41B2F7B5-C51D-0CB9-BDC2FF0433AE3B21
DTSTAMP=20260423T045634Z
DTSTART;VALUE=DATE:20260502
DTEND;VALUE=DATE:20260503
SUMMARY:2026 TVAL Wrestling Championships
LOCATION:Eleanor Murray Fallon Middle School, 3601 Kohnen Way, Dublin, CA, 94568
DESCRIPTION:View full event details: https://wrestlingtournaments.org/view.cfm?ID=107166

URL;VALUE=URI:https://wrestlingtournaments.org/view.cfm?ID=107166
END:VEVENT
END:VCALENDAR