BEGIN:VCALENDAR
VERSION:2.0
PRODID:-//ExhibitionMatches.com//NONSGML v1.0//EN
BEGIN:VEVENT
UID=41A8BFD4-024B-21B9-A9421A99368DC6D6
DTSTAMP=20260423T045527Z
DTSTART;VALUE=DATE:20260502
DTEND;VALUE=DATE:20260503
SUMMARY:RTD NAWA Freestyle and Greco
LOCATION:Central Valley High School, 4066 La Mesa Avenue, Shasta Lake, CA, 96019
DESCRIPTION:View full event details: https://wrestlingtournaments.org/view.cfm?ID=107169

URL;VALUE=URI:https://wrestlingtournaments.org/view.cfm?ID=107169
END:VEVENT
END:VCALENDAR