BEGIN:VCALENDAR
VERSION:2.0
PRODID:-//ExhibitionMatches.com//NONSGML v1.0//EN
BEGIN:VEVENT
UID=4133E0F7-9DA7-DF77-068AD963E3F6E7D2
DTSTAMP=20260423T044242Z
DTSTART;VALUE=DATE:20260502
DTEND;VALUE=DATE:20260503
SUMMARY:CVWA #5
LOCATION:MADERA SOUTH HIGH SCHOOL, 705 WEST PECAN AVE, MADERA, CA, 93637
DESCRIPTION:View full event details: https://wrestlingtournaments.org/view.cfm?ID=107170
Contact: Sean Carlson CVWAUSA@GMAIL.COM
URL;VALUE=URI:https://wrestlingtournaments.org/view.cfm?ID=107170
END:VEVENT
END:VCALENDAR