BEGIN:VCALENDAR
VERSION:2.0
PRODID:-//ExhibitionMatches.com//NONSGML v1.0//EN
BEGIN:VEVENT
UID=44CDA7D0-0D22-F3F2-548B780D50D6271C
DTSTAMP=20260423T062323Z
DTSTART;VALUE=DATE:20260502
DTEND;VALUE=DATE:20260503
SUMMARY:I.E.W.A. Finals @ Temecula Valley
LOCATION:Temecula Valley High School, 31555 Rancho Vista Rd., Temecula, CA, 92592
DESCRIPTION:View full event details: https://wrestlingtournaments.org/view.cfm?ID=107171
Contact: Lyndon Campbell lcampbell@tvusd.us
URL;VALUE=URI:https://wrestlingtournaments.org/view.cfm?ID=107171
END:VEVENT
END:VCALENDAR