BEGIN:VCALENDAR
VERSION:2.0
PRODID:-//ExhibitionMatches.com//NONSGML v1.0//EN
BEGIN:VEVENT
UID=44D74664-C8B4-D14E-F38A5DE1D8F25AC9
DTSTAMP=20260423T062426Z
DTSTART;VALUE=DATE:20260503
DTEND;VALUE=DATE:20260504
SUMMARY:TCWA Battlefield Brawl
LOCATION:Newbury Park High School Football Field@, 456 N. Reino Rd, Newbury Park, CA, 91320
DESCRIPTION:View full event details: https://wrestlingtournaments.org/view.cfm?ID=107176
Contact: Marcus Black info@project8wrestling.com
URL;VALUE=URI:https://wrestlingtournaments.org/view.cfm?ID=107176
END:VEVENT
END:VCALENDAR