BEGIN:VCALENDAR
VERSION:2.0
PRODID:-//ExhibitionMatches.com//NONSGML v1.0//EN
BEGIN:VEVENT
UID=1164D016-B00F-3445-5628742351B8AC07
DTSTAMP=20260422T062552Z
DTSTART;VALUE=DATE:20260508
DTEND;VALUE=DATE:20260510
SUMMARY:KCWA South Bakersfield Rumble
LOCATION:South High School, 1101 Planz Rd., Bakersfield, CA, 93304
DESCRIPTION:View full event details: https://wrestlingtournaments.org/view.cfm?ID=107181
Contact: Alfredo Vigil kcwapairer@gmail.com
URL;VALUE=URI:https://wrestlingtournaments.org/view.cfm?ID=107181
END:VEVENT
END:VCALENDAR